BEGIN:VCALENDAR
VERSION:2.0
PRODID:Imitheme.com 
BEGIN:VEVENT
UID:20260424T1037471891324085
DTSTAMP;TZID=UTC:2026-04-24 10:37:47
DTSTART;TZID=America/Los_Angeles:20250620T000000
DTEND;TZID=America/Los_Angeles:20250620T000000
SUMMARY:Young Adult Lock In
LOCATION:
DESCRIPTION:
URL:https://thechurchdenver.com/eventer/growth-track/
END:VEVENT
END:VCALENDAR
