BEGIN:VCALENDAR
VERSION:2.0
PRODID:Imitheme.com 
BEGIN:VEVENT
UID:20260423T12415881443831
DTSTAMP;TZID=UTC:2026-04-23 12:41:58
DTSTART;TZID=America/Los_Angeles:20310316T000000
DTEND;TZID=America/Los_Angeles:20310316T000000
SUMMARY:Sunday Service
LOCATION:1720 S Alcott St\, Denver\, CO 80219\, USA
DESCRIPTION:
URL:https://thechurchdenver.com/eventer/sunday-service-2/
END:VEVENT
END:VCALENDAR
